BEGIN:VCALENDAR
VERSION:2.0
PRODID:-//Geelong Bonsai Club Inc - ECPv6.15.13//NONSGML v1.0//EN
CALSCALE:GREGORIAN
METHOD:PUBLISH
X-WR-CALNAME:Geelong Bonsai Club Inc
X-ORIGINAL-URL:https://geelongbonsai.com.au
X-WR-CALDESC:Events for Geelong Bonsai Club Inc
REFRESH-INTERVAL;VALUE=DURATION:PT1H
X-Robots-Tag:noindex
X-PUBLISHED-TTL:PT1H
BEGIN:VTIMEZONE
TZID:Australia/Melbourne
BEGIN:STANDARD
TZOFFSETFROM:+1100
TZOFFSETTO:+1000
TZNAME:AEST
DTSTART:20250405T160000
END:STANDARD
BEGIN:DAYLIGHT
TZOFFSETFROM:+1000
TZOFFSETTO:+1100
TZNAME:AEDT
DTSTART:20251004T160000
END:DAYLIGHT
BEGIN:STANDARD
TZOFFSETFROM:+1100
TZOFFSETTO:+1000
TZNAME:AEST
DTSTART:20260404T160000
END:STANDARD
BEGIN:DAYLIGHT
TZOFFSETFROM:+1000
TZOFFSETTO:+1100
TZNAME:AEDT
DTSTART:20261003T160000
END:DAYLIGHT
BEGIN:STANDARD
TZOFFSETFROM:+1100
TZOFFSETTO:+1000
TZNAME:AEST
DTSTART:20270403T160000
END:STANDARD
BEGIN:DAYLIGHT
TZOFFSETFROM:+1000
TZOFFSETTO:+1100
TZNAME:AEDT
DTSTART:20271002T160000
END:DAYLIGHT
END:VTIMEZONE
BEGIN:VEVENT
DTSTART;TZID=Australia/Melbourne:20260418T090000
DTEND;TZID=Australia/Melbourne:20260418T160000
DTSTAMP:20260417T012350
CREATED:20260115T095211Z
LAST-MODIFIED:20260115T095211Z
UID:10000012-1776502800-1776528000@geelongbonsai.com.au
SUMMARY:Workshop – Quentin Valentine
DESCRIPTION:
URL:https://geelongbonsai.com.au/event/workshop-quentin-valentine/
CATEGORIES:Workshops
END:VEVENT
BEGIN:VEVENT
DTSTART;TZID=Australia/Melbourne:20260516T090000
DTEND;TZID=Australia/Melbourne:20260516T160000
DTSTAMP:20260417T012350
CREATED:20260115T095212Z
LAST-MODIFIED:20260115T095212Z
UID:10000016-1778922000-1778947200@geelongbonsai.com.au
SUMMARY:Workshop – Joe Morgan-Payler
DESCRIPTION:
URL:https://geelongbonsai.com.au/event/workshop-joe-morgan-payler-3/
CATEGORIES:Workshops
END:VEVENT
BEGIN:VEVENT
DTSTART;TZID=Australia/Melbourne:20260608T193000
DTEND;TZID=Australia/Melbourne:20260608T213000
DTSTAMP:20260417T012350
CREATED:20260115T095226Z
LAST-MODIFIED:20260116T080902Z
UID:10000017-1780947000-1780954200@geelongbonsai.com.au
SUMMARY:Workshop Night
DESCRIPTION:
URL:https://geelongbonsai.com.au/event/workshop-night-3/
CATEGORIES:Workshops
END:VEVENT
BEGIN:VEVENT
DTSTART;TZID=Australia/Melbourne:20260613T090000
DTEND;TZID=Australia/Melbourne:20260613T160000
DTSTAMP:20260417T012350
CREATED:20260115T095226Z
LAST-MODIFIED:20260115T095226Z
UID:10000018-1781341200-1781366400@geelongbonsai.com.au
SUMMARY:Workshop – Joe Morgan-Payler
DESCRIPTION:
URL:https://geelongbonsai.com.au/event/workshop-joe-morgan-payler-4/
CATEGORIES:Workshops
END:VEVENT
BEGIN:VEVENT
DTSTART;TZID=Australia/Melbourne:20260718T090000
DTEND;TZID=Australia/Melbourne:20260718T160000
DTSTAMP:20260417T012350
CREATED:20260115T095242Z
LAST-MODIFIED:20260115T095242Z
UID:10000022-1784365200-1784390400@geelongbonsai.com.au
SUMMARY:Workshop – Joe Morgan-Payler
DESCRIPTION:
URL:https://geelongbonsai.com.au/event/workshop-joe-morgan-payler-5/
CATEGORIES:Workshops
END:VEVENT
BEGIN:VEVENT
DTSTART;TZID=Australia/Melbourne:20260810T193000
DTEND;TZID=Australia/Melbourne:20260810T213000
DTSTAMP:20260417T012350
CREATED:20260115T095242Z
LAST-MODIFIED:20260116T080855Z
UID:10000023-1786390200-1786397400@geelongbonsai.com.au
SUMMARY:Workshop Night
DESCRIPTION:
URL:https://geelongbonsai.com.au/event/workshop-night-4/
CATEGORIES:Workshops
END:VEVENT
BEGIN:VEVENT
DTSTART;TZID=Australia/Melbourne:20260815T090000
DTEND;TZID=Australia/Melbourne:20260815T160000
DTSTAMP:20260417T012350
CREATED:20260115T095242Z
LAST-MODIFIED:20260115T095242Z
UID:10000024-1786784400-1786809600@geelongbonsai.com.au
SUMMARY:Workshop – Quentin Valentine
DESCRIPTION:
URL:https://geelongbonsai.com.au/event/workshop-quentin-valentine-2/
CATEGORIES:Workshops
END:VEVENT
BEGIN:VEVENT
DTSTART;TZID=Australia/Melbourne:20260919T090000
DTEND;TZID=Australia/Melbourne:20260919T160000
DTSTAMP:20260417T012350
CREATED:20260115T095256Z
LAST-MODIFIED:20260115T095256Z
UID:10000027-1789808400-1789833600@geelongbonsai.com.au
SUMMARY:Workshop – Joe Morgan-Payler
DESCRIPTION:
URL:https://geelongbonsai.com.au/event/workshop-joe-morgan-payler-6/
CATEGORIES:Workshops
END:VEVENT
BEGIN:VEVENT
DTSTART;TZID=Australia/Melbourne:20261012T193000
DTEND;TZID=Australia/Melbourne:20261012T213000
DTSTAMP:20260417T012350
CREATED:20260115T095257Z
LAST-MODIFIED:20260116T080834Z
UID:10000028-1791833400-1791840600@geelongbonsai.com.au
SUMMARY:Workshop Night
DESCRIPTION:
URL:https://geelongbonsai.com.au/event/workshop-night-5/
CATEGORIES:Workshops
END:VEVENT
BEGIN:VEVENT
DTSTART;TZID=Australia/Melbourne:20261017T090000
DTEND;TZID=Australia/Melbourne:20261017T160000
DTSTAMP:20260417T012350
CREATED:20260115T095257Z
LAST-MODIFIED:20260115T095257Z
UID:10000029-1792227600-1792252800@geelongbonsai.com.au
SUMMARY:Workshop – Joe Morgan-Payler
DESCRIPTION:
URL:https://geelongbonsai.com.au/event/workshop-joe-morgan-payler-7/
CATEGORIES:Workshops
END:VEVENT
BEGIN:VEVENT
DTSTART;TZID=Australia/Melbourne:20261114T090000
DTEND;TZID=Australia/Melbourne:20261114T160000
DTSTAMP:20260417T012350
CREATED:20260115T095312Z
LAST-MODIFIED:20260115T095312Z
UID:10000035-1794646800-1794672000@geelongbonsai.com.au
SUMMARY:Workshop – Quentin Valentine
DESCRIPTION:
URL:https://geelongbonsai.com.au/event/workshop-quentin-valentine-3/
CATEGORIES:Workshops
END:VEVENT
BEGIN:VEVENT
DTSTART;TZID=Australia/Melbourne:20261219T090000
DTEND;TZID=Australia/Melbourne:20261219T160000
DTSTAMP:20260417T012350
CREATED:20260115T095326Z
LAST-MODIFIED:20260115T095326Z
UID:10000037-1797670800-1797696000@geelongbonsai.com.au
SUMMARY:Workshop – Joe Morgan-Payler
DESCRIPTION:
URL:https://geelongbonsai.com.au/event/workshop-joe-morgan-payler-8/
CATEGORIES:Workshops
END:VEVENT
END:VCALENDAR